BEGIN:VCALENDAR
VERSION:2.0
PRODID:-//IMPULSE EVENTS - ECPv4.9.7//NONSGML v1.0//EN
CALSCALE:GREGORIAN
METHOD:PUBLISH
X-WR-CALNAME:IMPULSE EVENTS
X-ORIGINAL-URL:http://impulse-events.lu
X-WR-CALDESC:Events for IMPULSE EVENTS
BEGIN:VTIMEZONE
TZID:"Europe/Luxembourg"
BEGIN:DAYLIGHT
TZOFFSETFROM:+0100
TZOFFSETTO:+0200
TZNAME:CEST
DTSTART:20190331T010000
END:DAYLIGHT
BEGIN:STANDARD
TZOFFSETFROM:+0200
TZOFFSETTO:+0100
TZNAME:CET
DTSTART:20191027T010000
END:STANDARD
END:VTIMEZONE
BEGIN:VEVENT
DTSTART;TZID="Europe/Luxembourg":20190719T220000
DTEND;TZID="Europe/Luxembourg":20190720T030000
DTSTAMP:20200122T204645
CREATED:20190718T161804Z
LAST-MODIFIED:20190718T161804Z
UID:3179-1563573600-1563591600@impulse-events.lu
SUMMARY:80s Generation
DESCRIPTION:80s Generation um Schlammesté. Best of aus enger flotter Zäit. Hannert eisem Mëschpult\, den DJ Serge. \nWéi gewinnt fräi Nuecht bei gratis Entrée bis 3h\nVIP Reservatioun: tiago@ler.lu \n
URL:http://impulse-events.lu/event/80s-generation/
ATTACH;FMTTYPE=image/jpeg:http://impulse-events.lu/wp-content/uploads/2019/07/80s-generation-ler.jpg
ORGANIZER;CN="E-Space%20Lounge%20Bar":MAILTO:tiago@ler.lu
END:VEVENT
END:VCALENDAR